BEGIN:VCALENDAR
PRODID:-//eluceo/ical//2.0/EN
VERSION:2.0
CALSCALE:GREGORIAN
BEGIN:VEVENT
UID:aa06c88a4d4aee8df3f053499c042b5f
DTSTAMP:20260424T022232Z
SUMMARY:Genuss mit Aussicht
DESCRIPTION:Der Kiosk am Adelsbergturm in Chemnitz bietet eine vielfältige
  Auswahl an Snacks und Getränken und lädt dazu ein\, die herrliche Aussi
 cht zu genießen\, während man sich bei schönem Wetter im Freien entspan
 nen kann.
URL:https://www.meinplaner.com
DTSTART;TZID=Europe/Amsterdam:20260424T150000
DTEND;TZID=Europe/Amsterdam:20260424T180000
LOCATION:Am Adelsbergturm 1\, 09127 Chemnitz
BEGIN:VALARM
ACTION:DISPLAY
DESCRIPTION:Erinnerung: Genuss mit Aussicht beginnt in 1 Stunde
TRIGGER;RELATED=END:-PT1H
END:VALARM
END:VEVENT
END:VCALENDAR
