BEGIN:VCALENDAR
PRODID:-//eluceo/ical//2.0/EN
VERSION:2.0
CALSCALE:GREGORIAN
BEGIN:VEVENT
UID:1d22127af4dcfee45f404a76deb679b9
DTSTAMP:20260420T195919Z
SUMMARY:FarbRAUM
DESCRIPTION:Farben und Emotionen neu erleben! Meisterwerke aus fünf Jahrhu
 nderten treffen auf faszinierende Weise aufeinander: Alte Meister\, sakral
 e Schnitzwerke\, abstrakte Malerei\, moderne Skulpturen und glänzende Min
 eralien.
URL:https://www.meinplaner.com
DTSTART;TZID=Europe/Amsterdam:20260421T123000
DTEND;TZID=Europe/Amsterdam:20260421T180000
LOCATION:Domhof 2\, 08056 Zwickau
BEGIN:VALARM
ACTION:DISPLAY
DESCRIPTION:Erinnerung: FarbRAUM beginnt in 1 Stunde
TRIGGER;RELATED=END:-PT1H
END:VALARM
END:VEVENT
END:VCALENDAR
