BEGIN:VCALENDAR
PRODID:-//eluceo/ical//2.0/EN
VERSION:2.0
CALSCALE:GREGORIAN
BEGIN:VEVENT
UID:dd5659ca2131169b49e0048c58f29b45
DTSTAMP:20260425T110247Z
SUMMARY:SommerSonnenBall - Tanzball
DESCRIPTION:Bei diesem Tanzevent erwarten die Gäste die Stars Ekaterina Le
 onova & Paul Lorenz mit tollen Shows & Meet and Greet\, ein klassisches Ta
 nzparkett für Standard- & Lateintänzer sowie ein Floor mit Disco-Beats &
  Schlagern. Gastronomisch wird man bestens versorgt!
URL:https://www.meinplaner.com
DTSTART;TZID=Europe/Amsterdam:20260704T190000
DTEND;TZID=Europe/Amsterdam:20260704T210000
LOCATION:Fürstenplatz 5\, 08289 Schneeberg
BEGIN:VALARM
ACTION:DISPLAY
DESCRIPTION:Erinnerung: SommerSonnenBall - Tanzball beginnt in 1 Stunde
TRIGGER;RELATED=END:-PT1H
END:VALARM
END:VEVENT
END:VCALENDAR
