BEGIN:VCALENDAR
PRODID:-//eluceo/ical//2.0/EN
VERSION:2.0
CALSCALE:GREGORIAN
BEGIN:VEVENT
UID:cf87245946c8485d363be1d45ea8904d
DTSTAMP:20260424T002950Z
SUMMARY:Der Astronaut - Project Hail Mary
DESCRIPTION:Ryland Grace erwacht ohne Erinnerung auf einem Raumschiff\, Lic
 htjahre von der Erde entfernt. Nach und nach erkennt er seine Mission: Ein
 e rätselhafte Substanz bedroht die Sonne und alles Leben. Mit Wissen\, Mu
 t und unerwarteter Hilfe kämpft er um das Überleben.
URL:https://www.meinplaner.com
DTSTART;TZID=Europe/Amsterdam:20260424T164000
DTEND;TZID=Europe/Amsterdam:20260424T184000
LOCATION:Poetenweg 6-8\, 08056 Zwickau
BEGIN:VALARM
ACTION:DISPLAY
DESCRIPTION:Erinnerung: Der Astronaut - Project Hail Mary beginnt in 1 Stun
 de
TRIGGER;RELATED=END:-PT1H
END:VALARM
END:VEVENT
BEGIN:VEVENT
UID:5b205c0ea1568163e7b2ea35479ac7e0
DTSTAMP:20260424T002950Z
SUMMARY:Der Astronaut - Project Hail Mary
DESCRIPTION:Ryland Grace erwacht ohne Erinnerung auf einem Raumschiff\, Lic
 htjahre von der Erde entfernt. Nach und nach erkennt er seine Mission: Ein
 e rätselhafte Substanz bedroht die Sonne und alles Leben. Mit Wissen\, Mu
 t und unerwarteter Hilfe kämpft er um das Überleben.
URL:https://www.meinplaner.com
DTSTART;TZID=Europe/Amsterdam:20260424T193000
DTEND;TZID=Europe/Amsterdam:20260424T213000
LOCATION:Poetenweg 6-8\, 08056 Zwickau
BEGIN:VALARM
ACTION:DISPLAY
DESCRIPTION:Erinnerung: Der Astronaut - Project Hail Mary beginnt in 1 Stun
 de
TRIGGER;RELATED=END:-PT1H
END:VALARM
END:VEVENT
END:VCALENDAR
