BEGIN:VCALENDAR
PRODID:-//eluceo/ical//2.0/EN
VERSION:2.0
CALSCALE:GREGORIAN
BEGIN:VEVENT
UID:95edeaae39c63dec8a6636023b8ce7db
DTSTAMP:20260423T174835Z
SUMMARY:30. Limbacher Marktlauf
DESCRIPTION:Limbacher Marktlauf im Waldstadion Limbach-Oberfrohna: Jubiläu
 mslauf mit neuen Strecken\, zusätzlichen Wettbewerben und Finishermedaill
 e. Sportliche Atmosphäre\, starke Gemeinschaft und ein vielfältiges Rahm
 enprogramm sorgen für echtes Lauffieber.
URL:https://www.meinplaner.com
DTSTART;TZID=Europe/Amsterdam:20260530T100000
DTEND;TZID=Europe/Amsterdam:20260530T120000
LOCATION:Friesenweg 2\, 09212 Limbach-Oberfrohna
BEGIN:VALARM
ACTION:DISPLAY
DESCRIPTION:Erinnerung: 30. Limbacher Marktlauf beginnt in 1 Stunde
TRIGGER;RELATED=END:-PT1H
END:VALARM
END:VEVENT
END:VCALENDAR
