BEGIN:VCALENDAR
PRODID:-//eluceo/ical//2.0/EN
VERSION:2.0
CALSCALE:GREGORIAN
BEGIN:VEVENT
UID:a093374c8e8a4489fd502521b8d4417f
DTSTAMP:20260419T230124Z
SUMMARY:Jazzy - Chaos im Regenwald
DESCRIPTION:Jazzy\, ein Orang-Utan-Mädchen\, wird durch einen verheerenden
  Waldbrand von ihren Eltern getrennt und findet im Reservat neue Freunde\,
  doch der Verlust treibt sie an\, sich auf die Suche nach ihrer Familie zu
  machen und gleichzeitig den Regenwald zu retten.
URL:https://www.meinplaner.com
DTSTART;TZID=Europe/Amsterdam:20260420T171500
DTEND;TZID=Europe/Amsterdam:20260420T191500
LOCATION:Poetenweg 6-8\, 08056 Zwickau
BEGIN:VALARM
ACTION:DISPLAY
DESCRIPTION:Erinnerung: Jazzy - Chaos im Regenwald beginnt in 1 Stunde
TRIGGER;RELATED=END:-PT1H
END:VALARM
END:VEVENT
BEGIN:VEVENT
UID:5302c9b73c5e517119f15b9571d4c01a
DTSTAMP:20260419T230124Z
SUMMARY:Jazzy - Chaos im Regenwald
DESCRIPTION:Jazzy\, ein Orang-Utan-Mädchen\, wird durch einen verheerenden
  Waldbrand von ihren Eltern getrennt und findet im Reservat neue Freunde\,
  doch der Verlust treibt sie an\, sich auf die Suche nach ihrer Familie zu
  machen und gleichzeitig den Regenwald zu retten.
URL:https://www.meinplaner.com
DTSTART;TZID=Europe/Amsterdam:20260420T145000
DTEND;TZID=Europe/Amsterdam:20260420T165000
LOCATION:Poetenweg 6-8\, 08056 Zwickau
BEGIN:VALARM
ACTION:DISPLAY
DESCRIPTION:Erinnerung: Jazzy - Chaos im Regenwald beginnt in 1 Stunde
TRIGGER;RELATED=END:-PT1H
END:VALARM
END:VEVENT
END:VCALENDAR
