BEGIN:VCALENDAR
PRODID:-//eluceo/ical//2.0/EN
VERSION:2.0
CALSCALE:GREGORIAN
BEGIN:VEVENT
UID:2b58894fcf9a8674163e89f3a5a71d62
DTSTAMP:20260425T002242Z
SUMMARY:Kabarett Distel Berlin
DESCRIPTION:Die kleinste GroKo aller Zeiten gerät ins Wanken: Verwirrte Ab
 geordnete ringen um Mehrheiten\, während ein Therapie-Roboter versucht\, 
 das zerstrittene Parlament zu einigen – ein schmerzhafter\, zugleich hum
 orvoller Blick auf die Politik.
URL:https://www.meinplaner.com
DTSTART;TZID=Europe/Amsterdam:20260430T193000
DTEND;TZID=Europe/Amsterdam:20260430T220000
LOCATION:Theaterstr. 3\, 09111 Chemnitz
BEGIN:VALARM
ACTION:DISPLAY
DESCRIPTION:Erinnerung: Kabarett Distel Berlin beginnt in 1 Stunde
TRIGGER;RELATED=END:-PT1H
END:VALARM
END:VEVENT
END:VCALENDAR
