BEGIN:VCALENDAR
PRODID:-//eluceo/ical//2.0/EN
VERSION:2.0
CALSCALE:GREGORIAN
BEGIN:VEVENT
UID:208a0f3ad28752a0b8a4a17a49a3acab
DTSTAMP:20260421T191007Z
SUMMARY:Willkommen im SinnReich
DESCRIPTION:Ein besonderes Erlebnis mitten in Chemnitz: In völliger Dunkel
 heit werden für alle kleinen und großen Besucher alltägliche Situatione
 n neu erfahrbar. Beim geführten Rundgang zählen Tastsinn\, Gehör und Ge
 ruch – Sehen ist ausgeschlossen\, Staunen garantiert.
URL:https://www.meinplaner.com
DTSTART;TZID=Europe/Amsterdam:20260422T100000
DTEND;TZID=Europe/Amsterdam:20260422T180000
LOCATION:Rosenhof 14\, 09111 Chemnitz
BEGIN:VALARM
ACTION:DISPLAY
DESCRIPTION:Erinnerung: Willkommen im SinnReich beginnt in 1 Stunde
TRIGGER;RELATED=END:-PT1H
END:VALARM
END:VEVENT
END:VCALENDAR
