BEGIN:VCALENDAR
PRODID:-//eluceo/ical//2.0/EN
VERSION:2.0
CALSCALE:GREGORIAN
BEGIN:VEVENT
UID:27b46b4651144626a054cd4ec2218401
DTSTAMP:20260423T213140Z
SUMMARY:Kulinarische Reise nach Indien
DESCRIPTION:Auf der „Gastromeile“ Innere Klosterstraße lädt Inhaber J
 atinder Singh Goraya ein\, sein Land zu genießen. Die köstlichsten Gewü
 rze und Aromen der indischen Küche duften hier und die speziellen Zuberei
 tungen sind wie eine kulinarische eine Reise nach Fernost.
URL:https://www.meinplaner.com
DTSTART;TZID=Europe/Amsterdam:20260423T110000
DTEND;TZID=Europe/Amsterdam:20260423T140000
LOCATION:Innere Klosterstr. 19\, 09111 Chemnitz
BEGIN:VALARM
ACTION:DISPLAY
DESCRIPTION:Erinnerung: Kulinarische Reise nach Indien beginnt in 1 Stunde
TRIGGER;RELATED=END:-PT1H
END:VALARM
END:VEVENT
BEGIN:VEVENT
UID:5d318aa26075976f276d8785163d1846
DTSTAMP:20260423T213140Z
SUMMARY:Kulinarische Reise nach Indien
DESCRIPTION:Auf der „Gastromeile“ Innere Klosterstraße lädt Inhaber J
 atinder Singh Goraya ein\, sein Land zu genießen. Die köstlichsten Gewü
 rze und Aromen der indischen Küche duften hier und die speziellen Zuberei
 tungen sind wie eine kulinarische eine Reise nach Fernost.
URL:https://www.meinplaner.com
DTSTART;TZID=Europe/Amsterdam:20260423T170000
DTEND;TZID=Europe/Amsterdam:20260423T220000
LOCATION:Innere Klosterstr. 19\, 09111 Chemnitz
BEGIN:VALARM
ACTION:DISPLAY
DESCRIPTION:Erinnerung: Kulinarische Reise nach Indien beginnt in 1 Stunde
TRIGGER;RELATED=END:-PT1H
END:VALARM
END:VEVENT
END:VCALENDAR
