BEGIN:VCALENDAR
PRODID:-//eluceo/ical//2.0/EN
VERSION:2.0
CALSCALE:GREGORIAN
BEGIN:VEVENT
UID:c8cee04dd2a478e69086eadc65ef6eb7
DTSTAMP:20260424T214746Z
SUMMARY:Männertag auf der Alm
DESCRIPTION:Feiertag im Grünen: DJ Unique sorgt für musikalische Stimmung
 \, dazu kühle Getränke und entspannte Atmosphäre unter freiem Himmel. E
 in geselliger Treffpunkt für einen abwechslungsreichen Männertag mit Mus
 ik und guter Laune.
URL:https://www.meinplaner.com
DTSTART;TZID=Europe/Amsterdam:20260514T100000
DTEND;TZID=Europe/Amsterdam:20260514T180000
LOCATION:Totensteinstr. \, 09224 Chemnitz
BEGIN:VALARM
ACTION:DISPLAY
DESCRIPTION:Erinnerung: Männertag auf der Alm beginnt in 1 Stunde
TRIGGER;RELATED=END:-PT1H
END:VALARM
END:VEVENT
END:VCALENDAR
