BEGIN:VCALENDAR
PRODID:-//eluceo/ical//2.0/EN
VERSION:2.0
CALSCALE:GREGORIAN
BEGIN:VEVENT
UID:26f1c2ceb1de28046b57c62f72d0899c
DTSTAMP:20260421T162720Z
SUMMARY:Pilates im Mondstaubtheater
DESCRIPTION:Pilates für Erwachsene stärkt Körper und Geist. Durch kontro
 llierte Bewegungen aus der Körpermitte verbessern sich Haltung\, Beweglic
 hkeit und Achtsamkeit. Das Training fördert Stabilität\, Körperbewussts
 ein und ein bewusstes\, ganzheitliches Wohlbefinden.
URL:https://www.meinplaner.com
DTSTART;TZID=Europe/Amsterdam:20260421T121500
DTEND;TZID=Europe/Amsterdam:20260421T134500
LOCATION:Horchstr. 2\, 08058 Zwickau
BEGIN:VALARM
ACTION:DISPLAY
DESCRIPTION:Erinnerung: Pilates im Mondstaubtheater beginnt in 1 Stunde
TRIGGER;RELATED=END:-PT1H
END:VALARM
END:VEVENT
BEGIN:VEVENT
UID:b3a1944874db04964cb1aa8a88d34baf
DTSTAMP:20260421T162720Z
SUMMARY:Pilates im Mondstaubtheater
DESCRIPTION:Pilates für Erwachsene stärkt Körper und Geist. Durch kontro
 llierte Bewegungen aus der Körpermitte verbessern sich Haltung\, Beweglic
 hkeit und Achtsamkeit. Das Training fördert Stabilität\, Körperbewussts
 ein und ein bewusstes\, ganzheitliches Wohlbefinden.
URL:https://www.meinplaner.com
DTSTART;TZID=Europe/Amsterdam:20260421T184000
DTEND;TZID=Europe/Amsterdam:20260421T201000
LOCATION:Horchstr. 2\, 08058 Zwickau
BEGIN:VALARM
ACTION:DISPLAY
DESCRIPTION:Erinnerung: Pilates im Mondstaubtheater beginnt in 1 Stunde
TRIGGER;RELATED=END:-PT1H
END:VALARM
END:VEVENT
END:VCALENDAR
