BEGIN:VCALENDAR
PRODID:-//eluceo/ical//2.0/EN
VERSION:2.0
CALSCALE:GREGORIAN
BEGIN:VEVENT
UID:519de2187c00de324dc2e4965899b6c0
DTSTAMP:20260419T133927Z
SUMMARY:Stollberger Wochenmarkt
DESCRIPTION:Mit einem reichhaltigen Angebot aus frischen Lebensmitteln\, Pf
 lanzen\, Gewürzen und Tees\, Honig\, Backwaren\, aber auch Textilien und 
 Haushaltswaren\, erfreut sich der Stollberger Wochenmarkt jeden Mittwoch g
 roßer Beliebtheit.
URL:https://www.meinplaner.com
DTSTART;TZID=Europe/Amsterdam:20260422T080000
DTEND;TZID=Europe/Amsterdam:20260422T140000
LOCATION:Hauptmarkt 10\, 09366 Stollberg/Erzgeb.
BEGIN:VALARM
ACTION:DISPLAY
DESCRIPTION:Erinnerung: Stollberger Wochenmarkt beginnt in 1 Stunde
TRIGGER;RELATED=END:-PT1H
END:VALARM
END:VEVENT
END:VCALENDAR
