BEGIN:VCALENDAR
PRODID:-//eluceo/ical//2.0/EN
VERSION:2.0
CALSCALE:GREGORIAN
BEGIN:VEVENT
UID:3651d4a33b2e587427ff8bda07723bcd
DTSTAMP:20260421T053519Z
SUMMARY:Zelluloid II
DESCRIPTION:Das Figurentheater und die Chemnitzer Filmwerkstatt präsentier
 en die Kurzfilmreihe Tacheles\, die vielfältige Perspektiven auf jüdisch
 es Leben und Kultur beleuchtet. Ergänzt wird das Programm durch die dokum
 entarische Reihe 60sec.mentsh.
URL:https://www.meinplaner.com
DTSTART;TZID=Europe/Amsterdam:20260424T200000
DTEND;TZID=Europe/Amsterdam:20260424T220000
LOCATION:Altchemnitzer Str. 27\, 09120 Chemnitz
BEGIN:VALARM
ACTION:DISPLAY
DESCRIPTION:Erinnerung: Zelluloid II beginnt in 1 Stunde
TRIGGER;RELATED=END:-PT1H
END:VALARM
END:VEVENT
END:VCALENDAR
