BEGIN:VCALENDAR
PRODID:-//eluceo/ical//2.0/EN
VERSION:2.0
CALSCALE:GREGORIAN
BEGIN:VEVENT
UID:1214e860d4f8d1c3b0c93bdea3322c29
DTSTAMP:20260423T183444Z
SUMMARY:Space Rock Universe
DESCRIPTION:Eine musikalische Reise ins Weltall unter dem Sternenhimmel des
  Planetariums. Faszinierende astronomische Bilder treffen auf Musik von El
 ton John\, AC/DC\, R.E.M.\, Kate Bush\, Phil Collins und Simon & Garfunkel
  – eine emotionale Verbindung aus Klang\, und Staunen.
URL:https://www.meinplaner.com
DTSTART;TZID=Europe/Amsterdam:20260516T190000
DTEND;TZID=Europe/Amsterdam:20260516T210000
LOCATION:Milchstr. 1\, 09430 Drebach
BEGIN:VALARM
ACTION:DISPLAY
DESCRIPTION:Erinnerung: Space Rock Universe beginnt in 1 Stunde
TRIGGER;RELATED=END:-PT1H
END:VALARM
END:VEVENT
END:VCALENDAR
