BEGIN:VCALENDAR
PRODID:-//eluceo/ical//2.0/EN
VERSION:2.0
CALSCALE:GREGORIAN
BEGIN:VEVENT
UID:5ea7473397cb67f16fed9a4e6ba04b9b
DTSTAMP:20260421T142737Z
SUMMARY:Kunst im öffentlichen Raum - Tour
DESCRIPTION:Bei einem gemütlichen Spaziergang durch die Innenstadt lassen 
 sich erstaunlich viele Kunstwerke im öffentlichen Raum entdecken.
URL:https://www.meinplaner.com
DTSTART;TZID=Europe/Amsterdam:20260426T103000
DTEND;TZID=Europe/Amsterdam:20260426T123000
LOCATION:Markt 1\, 09111 Chemnitz
BEGIN:VALARM
ACTION:DISPLAY
DESCRIPTION:Erinnerung: Kunst im öffentlichen Raum - Tour beginnt in 1 Stu
 nde
TRIGGER;RELATED=END:-PT1H
END:VALARM
END:VEVENT
END:VCALENDAR
