BEGIN:VCALENDAR
PRODID:-//eluceo/ical//2.0/EN
VERSION:2.0
CALSCALE:GREGORIAN
BEGIN:VEVENT
UID:6120198e1ebf2cfb233e575373395dc1
DTSTAMP:20260423T184031Z
SUMMARY:Im Zauber der Polarlichter
DESCRIPTION:Das Polarlicht ist eine der beeindruckendsten Naturerscheinunge
 n. Sie kann als Nordlicht (Aurora Borealis) im hohen Norden und auch im ti
 efen Süden als Südlicht (Aurora Australis) beobachtet werden. Das Progra
 mm ist für Erwachsene und Kinder ab 12 J. geeignet.
URL:https://www.meinplaner.com
DTSTART;TZID=Europe/Amsterdam:20260426T140000
DTEND;TZID=Europe/Amsterdam:20260426T160000
LOCATION:Milchstr. 1\, 09430 Drebach
BEGIN:VALARM
ACTION:DISPLAY
DESCRIPTION:Erinnerung: Im Zauber der Polarlichter beginnt in 1 Stunde
TRIGGER;RELATED=END:-PT1H
END:VALARM
END:VEVENT
END:VCALENDAR
