BEGIN:VCALENDAR
PRODID:-//eluceo/ical//2.0/EN
VERSION:2.0
CALSCALE:GREGORIAN
BEGIN:VEVENT
UID:7ab4cc15d1a651e31f2f708effa751e2
DTSTAMP:20260423T112100Z
SUMMARY:Kids Race
DESCRIPTION:Kinder von 8 - 14 Jahren können hier ein 10-minütiges Trainin
 g und dann eine 8-minütige Qualifikation absolvieren und starten anschlie
 ßend in ein Rennen über 20 Runden. Indoor sind Kinder ab 1\,40 m\, Outdo
 or ab 1\,25 m zugelassen. 
URL:https://www.meinplaner.com
DTSTART;TZID=Europe/Amsterdam:20260517T150000
DTEND;TZID=Europe/Amsterdam:20260517T170000
LOCATION:Niedermülsener Hauptstr. 14b\, 08132 Mülsen
BEGIN:VALARM
ACTION:DISPLAY
DESCRIPTION:Erinnerung: Kids Race beginnt in 1 Stunde
TRIGGER;RELATED=END:-PT1H
END:VALARM
END:VEVENT
END:VCALENDAR
