BEGIN:VCALENDAR
PRODID:-//eluceo/ical//2.0/EN
VERSION:2.0
CALSCALE:GREGORIAN
BEGIN:VEVENT
UID:7f510797f31ddbe4c91eee53cb400cd2
DTSTAMP:20260421T174720Z
SUMMARY:Shelter
DESCRIPTION:Inmitten eines Sturms rettet ein untergetauchter Elite-Agent au
 f einer abgelegenen Insel ein Mädchen vor dem Ertrinken\, was ihn in eine
  gefährliche Kette von Ereignissen verwickelt\, die sein Versteck bedrohe
 n und seine dunkle Vergangenheit ans Licht bringen.
URL:https://www.meinplaner.com
DTSTART;TZID=Europe/Amsterdam:20260421T173000
DTEND;TZID=Europe/Amsterdam:20260421T193000
LOCATION:Poetenweg 6-8\, 08056 Zwickau
BEGIN:VALARM
ACTION:DISPLAY
DESCRIPTION:Erinnerung: Shelter beginnt in 1 Stunde
TRIGGER;RELATED=END:-PT1H
END:VALARM
END:VEVENT
BEGIN:VEVENT
UID:9d3230d2638bb8a5d4e3cfe5a8290a25
DTSTAMP:20260421T174720Z
SUMMARY:Shelter
DESCRIPTION:Inmitten eines Sturms rettet ein untergetauchter Elite-Agent au
 f einer abgelegenen Insel ein Mädchen vor dem Ertrinken\, was ihn in eine
  gefährliche Kette von Ereignissen verwickelt\, die sein Versteck bedrohe
 n und seine dunkle Vergangenheit ans Licht bringen.
URL:https://www.meinplaner.com
DTSTART;TZID=Europe/Amsterdam:20260421T201500
DTEND;TZID=Europe/Amsterdam:20260421T221500
LOCATION:Poetenweg 6-8\, 08056 Zwickau
BEGIN:VALARM
ACTION:DISPLAY
DESCRIPTION:Erinnerung: Shelter beginnt in 1 Stunde
TRIGGER;RELATED=END:-PT1H
END:VALARM
END:VEVENT
END:VCALENDAR
