BEGIN:VCALENDAR
PRODID:-//eluceo/ical//2.0/EN
VERSION:2.0
CALSCALE:GREGORIAN
BEGIN:VEVENT
UID:b960f519b874b87b8a8c09c1ed75d273
DTSTAMP:20260419T134107Z
SUMMARY:Speisen wie die Ratsherren
DESCRIPTION:Die historische Ausgestaltung des Ratskellers\, seinem Ratsherr
 enzimmer (10 Plätze) sowie dem Saal (55 Plätze) ist erhalten. Unter dem 
 Slogan „Köstlich. Kulinarisch. Gut bürgerlich.“ laden Speisen aus de
 r Region & erzgebirgische Spezialitäten ein. 
URL:https://www.meinplaner.com
DTSTART;TZID=Europe/Amsterdam:20260420T173000
DTEND;TZID=Europe/Amsterdam:20260420T210000
LOCATION:Hauptstraße  5\, 09380 Thalheim/Erzgeb.
BEGIN:VALARM
ACTION:DISPLAY
DESCRIPTION:Erinnerung: Speisen wie die Ratsherren beginnt in 1 Stunde
TRIGGER;RELATED=END:-PT1H
END:VALARM
END:VEVENT
BEGIN:VEVENT
UID:7d29e0873a3a850092e2d67cb8118a8c
DTSTAMP:20260419T134107Z
SUMMARY:Speisen wie die Ratsherren
DESCRIPTION:Die historische Ausgestaltung des Ratskellers\, seinem Ratsherr
 enzimmer (10 Plätze) sowie dem Saal (55 Plätze) ist erhalten. Unter dem 
 Slogan „Köstlich. Kulinarisch. Gut bürgerlich.“ laden Speisen aus de
 r Region & erzgebirgische Spezialitäten ein. 
URL:https://www.meinplaner.com
DTSTART;TZID=Europe/Amsterdam:20260420T110000
DTEND;TZID=Europe/Amsterdam:20260420T133000
LOCATION:Hauptstraße  5\, 09380 Thalheim/Erzgeb.
BEGIN:VALARM
ACTION:DISPLAY
DESCRIPTION:Erinnerung: Speisen wie die Ratsherren beginnt in 1 Stunde
TRIGGER;RELATED=END:-PT1H
END:VALARM
END:VEVENT
END:VCALENDAR
