BEGIN:VCALENDAR
PRODID:-//eluceo/ical//2.0/EN
VERSION:2.0
CALSCALE:GREGORIAN
BEGIN:VEVENT
UID:6063e0b4ccc90e8d7a119d2e1f958533
DTSTAMP:20260422T103114Z
SUMMARY:Kommunikation in Veränderungsprozessen: Sicher und wirksam agieren
  (Online)
DESCRIPTION:Der Kurs vermittelt\, wie Menschen auf Veränderungen reagieren
  und wie Kommunikation helfen kann\, Orientierung zu geben und Motivation 
 im Wandel zu fördern.
URL:https://www.meinplaner.com
DTSTART;TZID=Europe/Amsterdam:20260507T170000
DTEND;TZID=Europe/Amsterdam:20260507T200000
LOCATION:Moritzstr. 20\, 09111 Chemnitz
BEGIN:VALARM
ACTION:DISPLAY
DESCRIPTION:Erinnerung: Kommunikation in Veränderungsprozessen: Sicher und
  wirksam agieren (Online) beginnt in 1 Stunde
TRIGGER;RELATED=END:-PT1H
END:VALARM
END:VEVENT
END:VCALENDAR
