BEGIN:VCALENDAR
PRODID:-//eluceo/ical//2.0/EN
VERSION:2.0
CALSCALE:GREGORIAN
BEGIN:VEVENT
UID:6ee744b9f68ffb42c350a18cf45820af
DTSTAMP:20260425T002226Z
SUMMARY:Brücken im Fluss
DESCRIPTION:Manch einer fragt sich\, ob wir in einer Simulation leben. Brü
 cken stürzen ein\, Krankenhäuser schließen\, Fahrpläne werden geschät
 zt. Rente mit 80\, Umschulung zum Dachdecker mit 75. Schwarzer Humor hilft
 : analog im Kabarettkeller\, ohne Strohhalm\, mit Musik!
URL:https://www.meinplaner.com
DTSTART;TZID=Europe/Amsterdam:20260501T200000
DTEND;TZID=Europe/Amsterdam:20260501T220000
LOCATION:An der Markthalle 1 -3\, 09111 Chemnitz
BEGIN:VALARM
ACTION:DISPLAY
DESCRIPTION:Erinnerung: Brücken im Fluss beginnt in 1 Stunde
TRIGGER;RELATED=END:-PT1H
END:VALARM
END:VEVENT
END:VCALENDAR
