BEGIN:VCALENDAR
PRODID:-//eluceo/ical//2.0/EN
VERSION:2.0
CALSCALE:GREGORIAN
BEGIN:VEVENT
UID:316da7163fcbcf149b548e9543b6cf36
DTSTAMP:20260421T015149Z
SUMMARY:Abendführung im Wildgatter Oberrabenstein
DESCRIPTION:Was machen die Tiere im Tierpark eigentlich am Abend bzw. in de
 r Nacht. Wer legt sich schlafen und wer wird abends erst richtig munter? D
 iesen und anderen Fragen soll hier auf den Grund gegangen werden. Für Kin
 der ab 12 Jahren geeignet.
URL:https://www.meinplaner.com
DTSTART;TZID=Europe/Amsterdam:20260522T183000
DTEND;TZID=Europe/Amsterdam:20260522T210000
LOCATION:Thomas-Müntzer-Höhe 13\, 09117 Chemnitz
BEGIN:VALARM
ACTION:DISPLAY
DESCRIPTION:Erinnerung: Abendführung im Wildgatter Oberrabenstein beginnt 
 in 1 Stunde
TRIGGER;RELATED=END:-PT1H
END:VALARM
END:VEVENT
END:VCALENDAR
