BEGIN:VCALENDAR
PRODID:-//eluceo/ical//2.0/EN
VERSION:2.0
CALSCALE:GREGORIAN
BEGIN:VEVENT
UID:60a99893740af1daf0810bf730fcde50
DTSTAMP:20260424T115308Z
SUMMARY:BOX dich FIT
DESCRIPTION:Ein intensives Training zur Fettverbrennung\, Muskeldefinition 
 und Steigerung der Ausdauer. Dynamische Übungen sorgen für Abwechslung\,
  stärken die mentale Power und bauen Stress ab – ein energiegeladenes W
 orkout mit Spaßfaktor. 🔥💪
URL:https://www.meinplaner.com
DTSTART;TZID=Europe/Amsterdam:20260428T170000
DTEND;TZID=Europe/Amsterdam:20260428T180000
LOCATION:Chemnitzer Str.  133\, 09599 Freiberg
BEGIN:VALARM
ACTION:DISPLAY
DESCRIPTION:Erinnerung: BOX dich FIT beginnt in 1 Stunde
TRIGGER;RELATED=END:-PT1H
END:VALARM
END:VEVENT
END:VCALENDAR
