BEGIN:VCALENDAR
PRODID:-//eluceo/ical//2.0/EN
VERSION:2.0
CALSCALE:GREGORIAN
BEGIN:VEVENT
UID:3fc6de52c645fa595ed0d9b5561bafc8
DTSTAMP:20260419T154948Z
SUMMARY:Tough Mother
DESCRIPTION:Tough Mother\, das internationale Trio aus Berlin\, begeistert 
 mit akustischen Versionen kompromissloser Zeitflecken. Ihre leidenschaftli
 chen Hymnen spiegeln Weltschmerz und Enttäuschung wider – intensiv\, ei
 ndringlich und voller roher Emotion.
URL:https://www.meinplaner.com
DTSTART;TZID=Europe/Amsterdam:20260424T210000
DTEND;TZID=Europe/Amsterdam:20260424T230000
LOCATION:Hohe Str. 33\, 09112 Chemnitz
BEGIN:VALARM
ACTION:DISPLAY
DESCRIPTION:Erinnerung: Tough Mother beginnt in 1 Stunde
TRIGGER;RELATED=END:-PT1H
END:VALARM
END:VEVENT
END:VCALENDAR
