BEGIN:VCALENDAR
PRODID:-//eluceo/ical//2.0/EN
VERSION:2.0
CALSCALE:GREGORIAN
BEGIN:VEVENT
UID:d802aaac51316d927a609db0d294d9e5
DTSTAMP:20260424T084948Z
SUMMARY:Speisen wie die Ratsherren
DESCRIPTION:Die historische Ausgestaltung des Ratskellers\, seinem Ratsherr
 enzimmer (10 Plätze) sowie dem Saal (55 Plätze) ist erhalten. Unter dem 
 Slogan „Köstlich. Kulinarisch. Gut bürgerlich.“ laden Speisen aus de
 r Region & erzgebirgische Spezialitäten ein. 
URL:https://www.meinplaner.com
DTSTART;TZID=Europe/Amsterdam:20260424T110000
DTEND;TZID=Europe/Amsterdam:20260424T133000
LOCATION:Hauptstraße  5\, 09380 Thalheim/Erzgeb.
BEGIN:VALARM
ACTION:DISPLAY
DESCRIPTION:Erinnerung: Speisen wie die Ratsherren beginnt in 1 Stunde
TRIGGER;RELATED=END:-PT1H
END:VALARM
END:VEVENT
BEGIN:VEVENT
UID:dca8d378f5fab22736cc5e68af28922b
DTSTAMP:20260424T084948Z
SUMMARY:Speisen wie die Ratsherren
DESCRIPTION:Die historische Ausgestaltung des Ratskellers\, seinem Ratsherr
 enzimmer (10 Plätze) sowie dem Saal (55 Plätze) ist erhalten. Unter dem 
 Slogan „Köstlich. Kulinarisch. Gut bürgerlich.“ laden Speisen aus de
 r Region & erzgebirgische Spezialitäten ein. 
URL:https://www.meinplaner.com
DTSTART;TZID=Europe/Amsterdam:20260424T173000
DTEND;TZID=Europe/Amsterdam:20260424T210000
LOCATION:Hauptstraße  5\, 09380 Thalheim/Erzgeb.
BEGIN:VALARM
ACTION:DISPLAY
DESCRIPTION:Erinnerung: Speisen wie die Ratsherren beginnt in 1 Stunde
TRIGGER;RELATED=END:-PT1H
END:VALARM
END:VEVENT
END:VCALENDAR
