BEGIN:VCALENDAR
PRODID:-//eluceo/ical//2.0/EN
VERSION:2.0
CALSCALE:GREGORIAN
BEGIN:VEVENT
UID:34b1f8cdb4c92f136fe52fa52b48eef5
DTSTAMP:20260423T160117Z
SUMMARY:Ronald Reng: Der deutsche Sommer
DESCRIPTION:Ronald Reng erinnert in seinem Werk an die unvergessliche Leich
 tigkeit der Fußball-WM 2006 in Deutschland\, als Nationalstolz und Gemein
 schaftsgefühl blühten\, und fragt sich\, ob solch ein Hochgefühl in der
  heutigen Zeit noch möglich ist.
URL:https://www.meinplaner.com
DTSTART;TZID=Europe/Amsterdam:20260603T190000
DTEND;TZID=Europe/Amsterdam:20260603T220000
LOCATION:Parkstr. 58\, 09120 Chemnitz
BEGIN:VALARM
ACTION:DISPLAY
DESCRIPTION:Erinnerung: Ronald Reng: Der deutsche Sommer beginnt in 1 Stund
 e
TRIGGER;RELATED=END:-PT1H
END:VALARM
END:VEVENT
END:VCALENDAR
