BEGIN:VCALENDAR
PRODID:-//eluceo/ical//2.0/EN
VERSION:2.0
CALSCALE:GREGORIAN
BEGIN:VEVENT
UID:ff30847735fad7c3b55a4090269b1a96
DTSTAMP:20260421T200948Z
SUMMARY:Die Mausefalle
DESCRIPTION:Im abgelegenen Monkswell Manor\, eingeschneit und von einem Stu
 rm umgeben\, entfaltet sich ein tödliches Spiel aus Misstrauen\, als sieb
 en Fremde mit einem Mord konfrontiert werden\, der die Wahrheit hinter Mas
 ken und Lügen ans Licht zwingt.
URL:https://www.meinplaner.com
DTSTART;TZID=Europe/Amsterdam:20260503T150000
DTEND;TZID=Europe/Amsterdam:20260503T170000
LOCATION:Buchholzer Str. 67\, 09456 Annaberg-Buchholz
BEGIN:VALARM
ACTION:DISPLAY
DESCRIPTION:Erinnerung: Die Mausefalle beginnt in 1 Stunde
TRIGGER;RELATED=END:-PT1H
END:VALARM
END:VEVENT
END:VCALENDAR
