BEGIN:VCALENDAR
PRODID:-//eluceo/ical//2.0/EN
VERSION:2.0
CALSCALE:GREGORIAN
BEGIN:VEVENT
UID:37368d824a1cb29db7e5ca309fce72a2
DTSTAMP:20260424T072459Z
SUMMARY:Architekten Mildner/Heine
DESCRIPTION:Die Ausstellung der Architekten Mildner und Heine zeigt beeindr
 uckende Entwürfe und Konzepte\, die die Grenzen der Architektur erweitern
  und ein neues Verständnis für Raum\, Licht und Nachhaltigkeit vermittel
 n\, während sie die Besucher inspirieren.
URL:https://www.meinplaner.com
DTSTART;TZID=Europe/Amsterdam:20260424T090000
DTEND;TZID=Europe/Amsterdam:20260424T170000
LOCATION:Str. der Nationen 33\, 09111 Chemnitz
BEGIN:VALARM
ACTION:DISPLAY
DESCRIPTION:Erinnerung: Architekten Mildner/Heine beginnt in 1 Stunde
TRIGGER;RELATED=END:-PT1H
END:VALARM
END:VEVENT
END:VCALENDAR
