BEGIN:VCALENDAR
PRODID:-//eluceo/ical//2.0/EN
VERSION:2.0
CALSCALE:GREGORIAN
BEGIN:VEVENT
UID:11dbd0b1c64928a247d8c23796e84428
DTSTAMP:20260424T201914Z
SUMMARY:Roter Kerker-Tour mit Innenstadtrundgang
DESCRIPTION:100 Stufen sind zu steigen\, um im ältesten Gebäude der City 
 einen besonderen Ausblick zu genießen. Neben Stadtgeschichte(n) erfahren 
 die Besucher\, welch spektakulärer Gefängnisinsasse hier einsaß. Zum Sc
 hluss gibt es einen kleinen Innenstadtrundgang.
URL:https://www.meinplaner.com
DTSTART;TZID=Europe/Amsterdam:20260510T103000
DTEND;TZID=Europe/Amsterdam:20260510T123000
LOCATION:Am Wall 5\, 09111 Chemnitz
BEGIN:VALARM
ACTION:DISPLAY
DESCRIPTION:Erinnerung: Roter Kerker-Tour mit Innenstadtrundgang beginnt in
  1 Stunde
TRIGGER;RELATED=END:-PT1H
END:VALARM
END:VEVENT
END:VCALENDAR
