BEGIN:VCALENDAR
PRODID:-//eluceo/ical//2.0/EN
VERSION:2.0
CALSCALE:GREGORIAN
BEGIN:VEVENT
UID:714f83872728e1bf1e9300208b76668b
DTSTAMP:20260419T153831Z
SUMMARY:Studi-Tag im dean&david
DESCRIPTION:Dienstag ist Studi-Tag bei dean&david: 20 % Rabatt auf alles 
 – von Bowl bis Curry. Frisch\, gesund\, lecker – Ausweis zücken und g
 enießen.
URL:https://www.meinplaner.com
DTSTART;TZID=Europe/Amsterdam:20260421T110000
DTEND;TZID=Europe/Amsterdam:20260421T200000
LOCATION:Innere Klosterstr. 19\, 09111 Chemnitz
BEGIN:VALARM
ACTION:DISPLAY
DESCRIPTION:Erinnerung: Studi-Tag im dean&david beginnt in 1 Stunde
TRIGGER;RELATED=END:-PT1H
END:VALARM
END:VEVENT
END:VCALENDAR
