BEGIN:VCALENDAR
PRODID:-//eluceo/ical//2.0/EN
VERSION:2.0
CALSCALE:GREGORIAN
BEGIN:VEVENT
UID:bb65ad7799a8d4ba1d971423e73d5637
DTSTAMP:20260421T102323Z
SUMMARY:Rüsseltiere
DESCRIPTION:Eine Sonderausstellung im Museum für Naturkunde beleuchtet die
  Evolution der Rüsseltiere. Fossilien aus der Sammlung machen die Entwick
 lung von Elefant\, Mammut und Co. anschaulich erlebbar – von frühen Vor
 fahren bis in die Gegenwart.
URL:https://www.meinplaner.com
DTSTART;TZID=Europe/Amsterdam:20260421T090000
DTEND;TZID=Europe/Amsterdam:20260421T170000
LOCATION:Moritzstr. 20\, 09111 Chemnitz
BEGIN:VALARM
ACTION:DISPLAY
DESCRIPTION:Erinnerung: Rüsseltiere beginnt in 1 Stunde
TRIGGER;RELATED=END:-PT1H
END:VALARM
END:VEVENT
END:VCALENDAR
