BEGIN:VCALENDAR
PRODID:-//eluceo/ical//2.0/EN
VERSION:2.0
CALSCALE:GREGORIAN
BEGIN:VEVENT
UID:a837983e4384c9de928176441b287658
DTSTAMP:20260419T163251Z
SUMMARY:Nacht der Schlösser: Einfach Fabelhaft
DESCRIPTION:Im Rahmen der beliebten Nacht der Schlösser öffnen historisch
 e Anlagen ihre Tore und erstrahlen in besonderem Licht. Auch Schloss Wilde
 nfels lädt zu einem stimmungsvollen Abend mit vielfältigen Angeboten ein
 .
URL:https://www.meinplaner.com
DTSTART;TZID=Europe/Amsterdam:20260817T170000
DTEND;TZID=Europe/Amsterdam:20260817T230000
LOCATION:Schlossstr.  2\, 08134 Wildenfels
BEGIN:VALARM
ACTION:DISPLAY
DESCRIPTION:Erinnerung: Nacht der Schlösser: Einfach Fabelhaft beginnt in 
 1 Stunde
TRIGGER;RELATED=END:-PT1H
END:VALARM
END:VEVENT
END:VCALENDAR
