BEGIN:VCALENDAR
PRODID:-//eluceo/ical//2.0/EN
VERSION:2.0
CALSCALE:GREGORIAN
BEGIN:VEVENT
UID:1eaa5d277da2131983c4351848de13b5
DTSTAMP:20260421T223426Z
SUMMARY:Dirty Shapes
DESCRIPTION:DIRTY Shapes liefern Dirty Rock from old Germany – roh\, ener
 giegeladen und unverkennbar.
URL:https://www.meinplaner.com
DTSTART;TZID=Europe/Amsterdam:20260516T190000
DTEND;TZID=Europe/Amsterdam:20260516T210000
LOCATION:Dr.-Friedrichs-Ring 21 A\, 08056 Zwickau
BEGIN:VALARM
ACTION:DISPLAY
DESCRIPTION:Erinnerung: Dirty Shapes beginnt in 1 Stunde
TRIGGER;RELATED=END:-PT1H
END:VALARM
END:VEVENT
END:VCALENDAR
