BEGIN:VCALENDAR
PRODID:-//eluceo/ical//2.0/EN
VERSION:2.0
CALSCALE:GREGORIAN
BEGIN:VEVENT
UID:f922398352ee7652a419eb0df44e732e
DTSTAMP:20260423T211516Z
SUMMARY:Der Wunderweltenbaum
DESCRIPTION:Der Wunderweltenbaum entführt die Geschwister Beth\, Fran und 
 Joe in eine magische Welt voller fantastischer Wesen und Abenteuer\, währ
 end sie gleichzeitig versuchen\, die Herausforderungen ihrer neuen Heimat 
 und die drohende Gefahr durch Madame Klaps zu meistern
URL:https://www.meinplaner.com
DTSTART;TZID=Europe/Amsterdam:20260426T154500
DTEND;TZID=Europe/Amsterdam:20260426T174500
LOCATION:Neustädter Ring  2\, 08340 Schwarzenberg/Erzgeb.
BEGIN:VALARM
ACTION:DISPLAY
DESCRIPTION:Erinnerung: Der Wunderweltenbaum beginnt in 1 Stunde
TRIGGER;RELATED=END:-PT1H
END:VALARM
END:VEVENT
END:VCALENDAR
