BEGIN:VCALENDAR
PRODID:-//eluceo/ical//2.0/EN
VERSION:2.0
CALSCALE:GREGORIAN
BEGIN:VEVENT
UID:8c187020e16d8b37ff8aa9d5846570a1
DTSTAMP:20260424T002423Z
SUMMARY:Lustiges Pettersson und Findus Mitmachkino
DESCRIPTION:Der alte Pettersson und sein Kater Findus sind zurück auf der 
 großen Leinwand! Ein Kinospaß zum Mitsingen\, Mittanzen und Mitlachen!
URL:https://www.meinplaner.com
DTSTART;TZID=Europe/Amsterdam:20260424T151500
DTEND;TZID=Europe/Amsterdam:20260424T171500
LOCATION:Poetenweg 6-8\, 08056 Zwickau
BEGIN:VALARM
ACTION:DISPLAY
DESCRIPTION:Erinnerung: Lustiges Pettersson und Findus Mitmachkino beginnt 
 in 1 Stunde
TRIGGER;RELATED=END:-PT1H
END:VALARM
END:VEVENT
END:VCALENDAR
