BEGIN:VCALENDAR
PRODID:-//eluceo/ical//2.0/EN
VERSION:2.0
CALSCALE:GREGORIAN
BEGIN:VEVENT
UID:8a9479e53bcd94ab2a51fdb746559dca
DTSTAMP:20260419T142549Z
SUMMARY:Stammtisch der Webstuhlbauer
DESCRIPTION:Für alle ehemaligen Webstuhlbauer wird es auch in diesem Jahr 
 wieder einen Stammtisch in der Fabrik-Küche des Max Louis geben. 
URL:https://www.meinplaner.com
DTSTART;TZID=Europe/Amsterdam:20260423T150000
DTEND;TZID=Europe/Amsterdam:20260423T170000
LOCATION:Schönherrstr. 8\, 09113 Chemnitz
BEGIN:VALARM
ACTION:DISPLAY
DESCRIPTION:Erinnerung: Stammtisch der Webstuhlbauer beginnt in 1 Stunde
TRIGGER;RELATED=END:-PT1H
END:VALARM
END:VEVENT
END:VCALENDAR
