BEGIN:VCALENDAR
PRODID:-//eluceo/ical//2.0/EN
VERSION:2.0
CALSCALE:GREGORIAN
BEGIN:VEVENT
UID:3ca19ad723f7a8e6f1bb6ae1dae37c53
DTSTAMP:20260423T203308Z
SUMMARY:Ruhe\, Komfort\, Auszeit
DESCRIPTION:Eintauchen in pure Ruhe und Entspannung – eine großzügige F
 erienwohnung auf 90 qm bietet den perfekten Rückzugsort. Zwei gemütliche
  Schlafzimmer\, eine voll ausgestattete Küche und ein großes Sofa für e
 inen fünften Gast laden zum Verweilen und Genießen ein.
URL:https://www.meinplaner.com
DTSTART;TZID=Europe/Amsterdam:20260424T100000
DTEND;TZID=Europe/Amsterdam:20260424T180000
LOCATION:Niedermülsener Hauptstr. 88\, 08132 Mülsen
BEGIN:VALARM
ACTION:DISPLAY
DESCRIPTION:Erinnerung: Ruhe\, Komfort\, Auszeit beginnt in 1 Stunde
TRIGGER;RELATED=END:-PT1H
END:VALARM
END:VEVENT
END:VCALENDAR
