BEGIN:VCALENDAR
PRODID:-//eluceo/ical//2.0/EN
VERSION:2.0
CALSCALE:GREGORIAN
BEGIN:VEVENT
UID:f937d77327545ade7c25cbe17aa79684
DTSTAMP:20260420T044506Z
SUMMARY:Spareribs 
DESCRIPTION:Im Diebels Fasskeller können Gäste wöchentlich saftige Spare
 ribs genießen. Zusätzlich dazu gibt es die Möglichkeit\, Bier selbst zu
  zapfen. Die Kombination aus Spareribs & selbst gezapftem Bier macht den B
 esuch zu einem unvergesslichen kulinarischen Erlebnis.
URL:https://www.meinplaner.com
DTSTART;TZID=Europe/Amsterdam:20260420T180000
DTEND;TZID=Europe/Amsterdam:20260420T200000
LOCATION:An der Markthalle 3\, 09111 Chemnitz
BEGIN:VALARM
ACTION:DISPLAY
DESCRIPTION:Erinnerung: Spareribs  beginnt in 1 Stunde
TRIGGER;RELATED=END:-PT1H
END:VALARM
END:VEVENT
END:VCALENDAR
