BEGIN:VCALENDAR
PRODID:-//eluceo/ical//2.0/EN
VERSION:2.0
CALSCALE:GREGORIAN
BEGIN:VEVENT
UID:68786a4af3bf89da75cdfc5a5e0e9682
DTSTAMP:20260424T002401Z
SUMMARY:Handgemacht und ohne Scheiß
DESCRIPTION:Gemütlichkeit und handgemachtes\, kraftvolles\, ehrliches und 
 raues Bier erwartet die Genießer hier. Wer Craft Beer - ohne Scheiß\, mi
 t feinen Zutaten und vor allem viel Hopfen liebt ist hier richtig!
URL:https://www.meinplaner.com
DTSTART;TZID=Europe/Amsterdam:20260424T170000
DTEND;TZID=Europe/Amsterdam:20260424T235900
LOCATION:Seilerstr. 1\, 08056 Zwickau
BEGIN:VALARM
ACTION:DISPLAY
DESCRIPTION:Erinnerung: Handgemacht und ohne Scheiß beginnt in 1 Stunde
TRIGGER;RELATED=END:-PT1H
END:VALARM
END:VEVENT
END:VCALENDAR
