BEGIN:VCALENDAR
PRODID:-//eluceo/ical//2.0/EN
VERSION:2.0
CALSCALE:GREGORIAN
BEGIN:VEVENT
UID:d7ceca1a37797a93f8c1bfb1f5d31856
DTSTAMP:20260419T133940Z
SUMMARY:Aue-Bad Schlema liest!
DESCRIPTION:Eine Lesung mit Steffi Haase verbindet Geschichte und Kreativit
 ät. In besonderem Ambiente entsteht ein lebendiges Erlebnis rund um Frida
  Kahlo und die Kraft der Farben. 🎨📖
URL:https://www.meinplaner.com
DTSTART;TZID=Europe/Amsterdam:20260421T160000
DTEND;TZID=Europe/Amsterdam:20260421T180000
LOCATION:Goethestr. 5\, 08280 Aue-Bad Schlema
BEGIN:VALARM
ACTION:DISPLAY
DESCRIPTION:Erinnerung: Aue-Bad Schlema liest! beginnt in 1 Stunde
TRIGGER;RELATED=END:-PT1H
END:VALARM
END:VEVENT
END:VCALENDAR
