BEGIN:VCALENDAR
PRODID:-//eluceo/ical//2.0/EN
VERSION:2.0
CALSCALE:GREGORIAN
BEGIN:VEVENT
UID:cc761ccefdfe016cb9fafae32f561b07
DTSTAMP:20260419T184229Z
SUMMARY:Kulinarische Reise nach Indien
DESCRIPTION:Auf der „Gastromeile“ Innere Klosterstraße lädt Inhaber J
 atinder Singh Goraya ein\, sein Land zu genießen. Die köstlichsten Gewü
 rze und Aromen der indischen Küche duften hier und die speziellen Zuberei
 tungen sind wie eine kulinarische eine Reise nach Fernost.
URL:https://www.meinplaner.com
DTSTART;TZID=Europe/Amsterdam:20260419T110000
DTEND;TZID=Europe/Amsterdam:20260419T140000
LOCATION:Innere Klosterstr. 19\, 09111 Chemnitz
BEGIN:VALARM
ACTION:DISPLAY
DESCRIPTION:Erinnerung: Kulinarische Reise nach Indien beginnt in 1 Stunde
TRIGGER;RELATED=END:-PT1H
END:VALARM
END:VEVENT
BEGIN:VEVENT
UID:25f3cf02b8686129cdd4c9b02ac89355
DTSTAMP:20260419T184229Z
SUMMARY:Kulinarische Reise nach Indien
DESCRIPTION:Auf der „Gastromeile“ Innere Klosterstraße lädt Inhaber J
 atinder Singh Goraya ein\, sein Land zu genießen. Die köstlichsten Gewü
 rze und Aromen der indischen Küche duften hier und die speziellen Zuberei
 tungen sind wie eine kulinarische eine Reise nach Fernost.
URL:https://www.meinplaner.com
DTSTART;TZID=Europe/Amsterdam:20260419T170000
DTEND;TZID=Europe/Amsterdam:20260419T220000
LOCATION:Innere Klosterstr. 19\, 09111 Chemnitz
BEGIN:VALARM
ACTION:DISPLAY
DESCRIPTION:Erinnerung: Kulinarische Reise nach Indien beginnt in 1 Stunde
TRIGGER;RELATED=END:-PT1H
END:VALARM
END:VEVENT
END:VCALENDAR
