BEGIN:VCALENDAR
PRODID:-//eluceo/ical//2.0/EN
VERSION:2.0
CALSCALE:GREGORIAN
BEGIN:VEVENT
UID:2e5f4566eefac7ed02334d4493fb1906
DTSTAMP:20260420T154552Z
SUMMARY:Krimi total Dinner: Millionäre lieben gefährlich
DESCRIPTION:Es ist der Abend des Jahres. Seien Sie live dabei\, wenn Miriam
  und Leo zu ihrer Show "Ein Date mit dem Millionär" einladen. Noch ist st
 reng geheim\, wer dieser mysteriöse Millionär ist\, doch offensichtlich 
 haben es einige auf die Millionen abgesehen...
URL:https://www.meinplaner.com
DTSTART;TZID=Europe/Amsterdam:20260515T190000
DTEND;TZID=Europe/Amsterdam:20260515T210000
LOCATION:Brückenstr. 17\, 09111 Chemnitz
BEGIN:VALARM
ACTION:DISPLAY
DESCRIPTION:Erinnerung: Krimi total Dinner: Millionäre lieben gefährlich 
 beginnt in 1 Stunde
TRIGGER;RELATED=END:-PT1H
END:VALARM
END:VEVENT
END:VCALENDAR
