BEGIN:VCALENDAR
PRODID:-//eluceo/ical//2.0/EN
VERSION:2.0
CALSCALE:GREGORIAN
BEGIN:VEVENT
UID:88f7d212d37d44517bba5967544c0ca5
DTSTAMP:20260422T221741Z
SUMMARY:Beach- und Volleyball-Platz
DESCRIPTION:In unmittelbarer Nähe des Rasenplatzes stehen eine Volleyball-
  und eine Basketballanlage mit gelenkschonendem Tartanbelag zur Verfügung
 . Ergänzt wird das Angebot durch Beachplätze\, auf denen auch Beachsocce
 r gespielt werden kann.
URL:https://www.meinplaner.com
DTSTART;TZID=Europe/Amsterdam:20260423T070000
DTEND;TZID=Europe/Amsterdam:20260423T220000
LOCATION:Rabenberg \, 08353 Breitenbrunn/Erzgeb.
BEGIN:VALARM
ACTION:DISPLAY
DESCRIPTION:Erinnerung: Beach- und Volleyball-Platz beginnt in 1 Stunde
TRIGGER;RELATED=END:-PT1H
END:VALARM
END:VEVENT
END:VCALENDAR
