BEGIN:VCALENDAR
PRODID:-//eluceo/ical//2.0/EN
VERSION:2.0
CALSCALE:GREGORIAN
BEGIN:VEVENT
UID:1f95ca0bca952572189076cac2359da3
DTSTAMP:20260422T123709Z
SUMMARY:Ferien-Kunst-Werkstatt: Graffiti - aber richtig.
DESCRIPTION:Kreative Köpfe sprühen vor Ideen – und bald auch mit Farben
 ! Unter Anleitung von Alina Henschel und Philipp Kühn werden eigene Entw
 ürfe gestaltet und mit den richtigen Techniken als beeindruckendes Graffi
 ti umgesetzt. Spaß und Kreativität garantiert!
URL:https://www.meinplaner.com
DTSTART;TZID=Europe/Amsterdam:20260706T093000
DTEND;TZID=Europe/Amsterdam:20260706T140000
LOCATION:Freiberger Str. 29\, 09569 Oederan
BEGIN:VALARM
ACTION:DISPLAY
DESCRIPTION:Erinnerung: Ferien-Kunst-Werkstatt: Graffiti - aber richtig. be
 ginnt in 1 Stunde
TRIGGER;RELATED=END:-PT1H
END:VALARM
END:VEVENT
END:VCALENDAR
