BEGIN:VCALENDAR
PRODID:-//eluceo/ical//2.0/EN
VERSION:2.0
CALSCALE:GREGORIAN
BEGIN:VEVENT
UID:19cfbea4b59c10d5bb4472bd316817a3
DTSTAMP:20260424T110957Z
SUMMARY:Freifunk Sprechstunde
DESCRIPTION:Freifunk Chemnitz e.V. zeigt\, was mit WLAN alles machbar ist: 
 Vom einfachen Router\, den man sich ans Fenster stellt bis zur komplexen V
 eranstaltungsplanung können sich Interessierte informieren oder  gemeinsa
 m einen ersten eigenen Freifunk-Router einrichten.
URL:https://www.meinplaner.com
DTSTART;TZID=Europe/Amsterdam:20260504T160000
DTEND;TZID=Europe/Amsterdam:20260504T190000
LOCATION:Moritzstr. 20\, 09111 Chemnitz
BEGIN:VALARM
ACTION:DISPLAY
DESCRIPTION:Erinnerung: Freifunk Sprechstunde beginnt in 1 Stunde
TRIGGER;RELATED=END:-PT1H
END:VALARM
END:VEVENT
END:VCALENDAR
