BEGIN:VCALENDAR
PRODID:-//eluceo/ical//2.0/EN
VERSION:2.0
CALSCALE:GREGORIAN
BEGIN:VEVENT
UID:03893253571a6ffadf23da3ede9a57be
DTSTAMP:20260423T095109Z
SUMMARY:Praktisch. Kreativ. Ungezwungen.
DESCRIPTION:Die Offene Werkstatt „Einfach machen!“ lädt zu einem inspi
 rierenden Nachmittag voller kreativer Impulse\, handwerklicher Erfahrungen
  und gemeinschaftlicher Begegnung ein – ganz ohne Leistungsdruck und mit
  freiem Eintritt für alle Interessierten.
URL:https://www.meinplaner.com
DTSTART;TZID=Europe/Amsterdam:20260426T150000
DTEND;TZID=Europe/Amsterdam:20260426T183000
LOCATION:Himmelmühle 12\, 09488 Thermalbad Wiesenbad
BEGIN:VALARM
ACTION:DISPLAY
DESCRIPTION:Erinnerung: Praktisch. Kreativ. Ungezwungen. beginnt in 1 Stund
 e
TRIGGER;RELATED=END:-PT1H
END:VALARM
END:VEVENT
END:VCALENDAR
