BEGIN:VCALENDAR
PRODID:-//eluceo/ical//2.0/EN
VERSION:2.0
CALSCALE:GREGORIAN
BEGIN:VEVENT
UID:625f2458bba09b1bd2b9a34c292ec88f
DTSTAMP:20260425T032352Z
SUMMARY:Karzl-Frühstück
DESCRIPTION:Zeit zum Plaudern und Genießen bietet das Karzl-Frühstück in
  gemütlicher Atmosphäre in der „Leffelstub“. Regionale Produkte von 
 lokalen Anbietern kommen auf den Tisch. Wahlweise herzhaft\, süß oder ge
 mischt dazu gibt es verschiedene Getränke. 
URL:https://www.meinplaner.com
DTSTART;TZID=Europe/Amsterdam:20260425T083000
DTEND;TZID=Europe/Amsterdam:20260425T103000
LOCATION:Karlsbader Straße 189\, 09465 Sehmatal
BEGIN:VALARM
ACTION:DISPLAY
DESCRIPTION:Erinnerung: Karzl-Frühstück beginnt in 1 Stunde
TRIGGER;RELATED=END:-PT1H
END:VALARM
END:VEVENT
END:VCALENDAR
