BEGIN:VCALENDAR
PRODID:-//eluceo/ical//2.0/EN
VERSION:2.0
CALSCALE:GREGORIAN
BEGIN:VEVENT
UID:20c0e0709489e78ca7c55f8634b20639
DTSTAMP:20260421T194436Z
SUMMARY:Rossini das Menü 2026
DESCRIPTION:Im Ristorante Di Sopra steht traditionelle italienische Küche 
 im Mittelpunkt. Das Menü überzeugt mit einer feinen Vorspeise aus Seesai
 bling\, einem zarten Black-Angus-Rückensteak als Hauptgang und einem kös
 tlichen Dessert.
URL:https://www.meinplaner.com
DTSTART;TZID=Europe/Amsterdam:20260421T113000
DTEND;TZID=Europe/Amsterdam:20260421T143000
LOCATION:Düsseldorfer Platz 1\, 09111 Chemnitz
BEGIN:VALARM
ACTION:DISPLAY
DESCRIPTION:Erinnerung: Rossini das Menü 2026 beginnt in 1 Stunde
TRIGGER;RELATED=END:-PT1H
END:VALARM
END:VEVENT
BEGIN:VEVENT
UID:9a712a4a15f76ecfb3d0fa2051cf7027
DTSTAMP:20260421T194436Z
SUMMARY:Rossini das Menü 2026
DESCRIPTION:Im Ristorante Di Sopra steht traditionelle italienische Küche 
 im Mittelpunkt. Das Menü überzeugt mit einer feinen Vorspeise aus Seesai
 bling\, einem zarten Black-Angus-Rückensteak als Hauptgang und einem kös
 tlichen Dessert.
URL:https://www.meinplaner.com
DTSTART;TZID=Europe/Amsterdam:20260421T173000
DTEND;TZID=Europe/Amsterdam:20260421T223000
LOCATION:Düsseldorfer Platz 1\, 09111 Chemnitz
BEGIN:VALARM
ACTION:DISPLAY
DESCRIPTION:Erinnerung: Rossini das Menü 2026 beginnt in 1 Stunde
TRIGGER;RELATED=END:-PT1H
END:VALARM
END:VEVENT
END:VCALENDAR
