BEGIN:VCALENDAR
PRODID:-//eluceo/ical//2.0/EN
VERSION:2.0
CALSCALE:GREGORIAN
BEGIN:VEVENT
UID:74d1fe4e3dacb8ec7e2c51e04d2348c7
DTSTAMP:20260425T104410Z
SUMMARY:Benefizveranstaltung "Laufend gegen Krebs"
DESCRIPTION:„Laufend gegen Krebs“ vereint Bewegung und Engagement. Gela
 ufen wird bis max. eine Stunde\, jede Runde zählt. Die Spenden gehen an P
 rojekte der Sächsischen Krebsgesellschaft. Ein Rahmenprogramm bietet Info
 s\, Austausch und Unterhaltung rund um das Thema Krebs.
URL:https://www.meinplaner.com
DTSTART;TZID=Europe/Amsterdam:20260603T160000
DTEND;TZID=Europe/Amsterdam:20260603T183000
LOCATION:Wittgensdorfer Str. 2 A\, 09114 Chemnitz
BEGIN:VALARM
ACTION:DISPLAY
DESCRIPTION:Erinnerung: Benefizveranstaltung "Laufend gegen Krebs" beginnt 
 in 1 Stunde
TRIGGER;RELATED=END:-PT1H
END:VALARM
END:VEVENT
END:VCALENDAR
