BEGIN:VCALENDAR
PRODID:-//eluceo/ical//2.0/EN
VERSION:2.0
CALSCALE:GREGORIAN
BEGIN:VEVENT
UID:7b3893203d13628c3e2f7f67b70f8f95
DTSTAMP:20260424T072706Z
SUMMARY:Ausstellung Utopia
DESCRIPTION:Ein internationales Ausstellungsprojekt stellt zentrale Fragen 
 zur Zukunft des Zusammenlebens. Werke renommierter Künstlerinnen und Kün
 stler eröffnen neue Perspektiven auf Nachhaltigkeit\, Gerechtigkeit und g
 esellschaftlichen Wandel. 
URL:https://www.meinplaner.com
DTSTART;TZID=Europe/Amsterdam:20260424T110000
DTEND;TZID=Europe/Amsterdam:20260424T180000
LOCATION:Theaterplatz 1\, 09111 Chemnitz
BEGIN:VALARM
ACTION:DISPLAY
DESCRIPTION:Erinnerung: Ausstellung Utopia beginnt in 1 Stunde
TRIGGER;RELATED=END:-PT1H
END:VALARM
END:VEVENT
END:VCALENDAR
